BEGIN:VCALENDAR
VERSION:2.0
PRODID:-//Greenwood Centre - ECPv6.15.20//NONSGML v1.0//EN
CALSCALE:GREGORIAN
METHOD:PUBLISH
X-WR-CALNAME:Greenwood Centre
X-ORIGINAL-URL:https://www.greenwoodcentre.org
X-WR-CALDESC:Events for Greenwood Centre
REFRESH-INTERVAL;VALUE=DURATION:PT1H
X-Robots-Tag:noindex
X-PUBLISHED-TTL:PT1H
BEGIN:VTIMEZONE
TZID:America/New_York
BEGIN:DAYLIGHT
TZOFFSETFROM:-0500
TZOFFSETTO:-0400
TZNAME:EDT
DTSTART:20220313T070000
END:DAYLIGHT
BEGIN:STANDARD
TZOFFSETFROM:-0400
TZOFFSETTO:-0500
TZNAME:EST
DTSTART:20221106T060000
END:STANDARD
BEGIN:DAYLIGHT
TZOFFSETFROM:-0500
TZOFFSETTO:-0400
TZNAME:EDT
DTSTART:20230312T070000
END:DAYLIGHT
BEGIN:STANDARD
TZOFFSETFROM:-0400
TZOFFSETTO:-0500
TZNAME:EST
DTSTART:20231105T060000
END:STANDARD
BEGIN:DAYLIGHT
TZOFFSETFROM:-0500
TZOFFSETTO:-0400
TZNAME:EDT
DTSTART:20240310T070000
END:DAYLIGHT
BEGIN:STANDARD
TZOFFSETFROM:-0400
TZOFFSETTO:-0500
TZNAME:EST
DTSTART:20241103T060000
END:STANDARD
END:VTIMEZONE
BEGIN:VEVENT
DTSTART;TZID=America/New_York:20230709T150000
DTEND;TZID=America/New_York:20230709T170000
DTSTAMP:20260424T042629
CREATED:20230612T183924Z
LAST-MODIFIED:20230612T183924Z
UID:10000424-1688914800-1688922000@www.greenwoodcentre.org
SUMMARY:2023 Traditional Tea | Thé Traditionnel
DESCRIPTION:Come to Greenwood and enjoy an afternoon just like in the days of old. Home made finger sandwiches\, baked goods and a pot of tea all served in style throughout our property. Tickets for this event must be purchased in advance\, and space is limited. \nTickets for this event are available at Que de Bonnes Choses (484-D rue Main\, Hudson) or online here. \nVenez à Greenwood et profitez d’un après-midi comme au dans le bon vieux temps. Des sandwichs maison des produits de boulangerie et de délicieuses pâtisseries  avec du thé\, le tout servi avec style élégance dans notre propriété. Les billets pour cet événement doivent être achetés à l’avance et les places sont limitées. \nLes billets pour cet événement sont disponibles à Que de Bonnes Choses (484-D rue Main\, Hudson) ou en ligne ici.
URL:https://www.greenwoodcentre.org/event/2023-traditional-tea-the-traditionnel/
LOCATION:Greenwood Centre\, 254 rue Main\, Hudson\, Quebec\, J0P 1H0\, Canada
ATTACH;FMTTYPE=image/png:https://www.greenwoodcentre.org/wp-content/uploads/2022/05/Traditional-Tea-Calendar.png
END:VEVENT
BEGIN:VEVENT
DTSTART;TZID=America/New_York:20230723T180000
DTEND;TZID=America/New_York:20230723T220000
DTSTAMP:20260424T042629
CREATED:20230624T153837Z
LAST-MODIFIED:20230718T125310Z
UID:10000426-1690135200-1690149600@www.greenwoodcentre.org
SUMMARY:Shakespeare in the Park
DESCRIPTION:Le Théâtre Répercussion présente:\nThe Repercussion Theatre presents:\nCymbeline\nPart fairy-tale\, part historical-fiction\, part tragic-comedy – Cymbeline has it all. With music\, a dynamic\, eco-conscious design\, and an ensemble of eight talented actors taking on multiple roles\, we invite you to join us on the Greenwood lawn for this unique production. This event is free. Donations to Repercussion Theatre are welcome. We highly recommend that you carpool as parking is difficult in this part of the town. \nÀ la fois conte de fées\, fiction historique et tragi-comédie\, Cymbeline a tout pour plaire. Ne manquez pas cette production unique\, toute en musique\, de conception dynamique et respectueuse de l’environnement et brillamment interprétée par huit acteurs de talent qui se déroulera dans les jardins de Greenwood. Cet évenement est gratuit. Vos dons sont les bienvenus. Nous vous recommandons fortement de faire du covoiturage car il est difficile de stationner dans ce secteur du village.
URL:https://www.greenwoodcentre.org/event/1963/
LOCATION:Greenwood Centre\, 254 rue Main\, Hudson\, Quebec\, J0P 1H0\, Canada
ATTACH;FMTTYPE=image/png:https://www.greenwoodcentre.org/wp-content/uploads/2023/06/Cymbeline2023LogoedPromoSquare.png
END:VEVENT
END:VCALENDAR